BEGIN:VCALENDAR
VERSION:2.0
PRODID:-//EDASE//Formations//FR
CALSCALE:GREGORIAN
METHOD:PUBLISH
BEGIN:VEVENT
UID:formation-1715@edase.fr
DTSTAMP:20260424T113535Z
DTSTART:20220121T130000Z
DTEND:20220121T160000Z
SUMMARY:Cycle spécialisant de formation en droit fiscal volet ii. atelier viii   les revenus distribués
LOCATION:EDASE\, 61 Bd de la Blancarde\, 13004 MARSEILLE
DESCRIPTION:Proposer aux avocats en exercice\, disposant de la mention de spécialisation et souhaitant valider des heures dans cette matière ou à ceux désireux de l’obtenir\, de bénéficier d’interventions et d’échanges avec des praticiens de qualité et reposant sur une mise en à jour des concepts fondamentaux ainsi que sur des exemples concrets et pratiques.
END:VEVENT
END:VCALENDAR
